BEGIN:VCALENDAR
VERSION:2.0
PRODID:-//wp-events-plugin.com//7.2.3.1//EN
TZID:America/Phoenix
X-WR-TIMEZONE:America/Phoenix
BEGIN:VEVENT
UID:108@az.pca.org
DTSTART:20260117T140000Z
DTEND:20260117T230000Z
DTSTAMP:20251031T122949Z
URL:https://az.pca.org/event/autocross-2/
SUMMARY:Autocross
DESCRIPTION:Autocross at Phoenix International Raceway.\n\n
ATTACH;FMTTYPE=image/jpeg:https://az.pca.org/wp-content/uploads/2024/11/AZ
 PCA-Autocross-11-2024-Ferring-29-scaled.jpg
CATEGORIES:Autocross
LOCATION:Phoenix Raceway\, 7602 Jimmie Johnson Dr\, Avondale\, AZ\, United 
 States
X-APPLE-STRUCTURED-LOCATION;VALUE=URI;X-ADDRESS=7602 Jimmie Johnson Dr\, Av
 ondale\, AZ\, United States;X-APPLE-RADIUS=100;X-TITLE=Phoenix Raceway:geo
 :0,0
END:VEVENT
END:VCALENDAR